BEGIN:VCALENDAR
VERSION:2.0
CREATED:20260416T111009Z
PRODID:-//Kontoor Brands\, Inc./Equisolve Calendar v1.0//EN
METHOD:PUBLISH
BEGIN:VEVENT
UID:5e8bba3cb27dc512edbeac370df8a8d2
DTSTAMP:20260425T161735Z
DTSTART:20260507T123000Z
DTEND:20260507T133000Z
SUMMARY:First Quarter 2026 Earnings Conference Call
DESCRIPTION:First Quarter 2026 Earnings Conference Call\n\nDate: May 7\, 2026 • 8:30 am EDT\n\n
END:VEVENT
END:VCALENDAR
